BEGIN:VCALENDAR
VERSION:2.0
PRODID:-//Tukios.com/
BEGIN:VEVENT
UID:d3141dd2-092f-48f2-b3dd-bffc0efd61a0@www.charliemarshallfuneralhomes.com
DTSTAMP:20260423T002831Z
DTSTART:20260424T140000Z
DTEND:20260424T150000Z
SUMMARY:Funeral Service
DESCRIPTION:
URL:https://www.charliemarshallfuneralhomes.com/obituaries/telesforo-torres
LOCATION:St. Mary Star of the Sea Catholic Church 342 S Rife St  Aransas 
	Pass TX 78336
GEO:27.9040402;-97.1482149
END:VEVENT
END:VCALENDAR