BEGIN:VCALENDAR
VERSION:2.0
PRODID:-//Tukios.com/
BEGIN:VEVENT
UID:dee834da-b3d2-4ba6-830b-6b5fef33106d@www.charliemarshallfuneralhomes.com
DTSTAMP:20260423T003304Z
DTSTART:20260423T210000Z
DTEND:20260424T000000Z
SUMMARY:Visitation
DESCRIPTION:
URL:https://www.charliemarshallfuneralhomes.com/obituaries/telesforo-torres
LOCATION:Charlie Marshall Funeral Home 2003 West Wheeler Avenue  Aransas 
	Pass TX 78336
GEO:27.9175142;-97.1658365
END:VEVENT
END:VCALENDAR