BEGIN:VCALENDAR
VERSION:2.0
PRODID:-//Tukios.com/
BEGIN:VEVENT
UID:99351a92-2307-4b1f-9e81-c1f0c26b6d3d@www.charliemarshallfuneralhomes.com
DTSTAMP:20260423T003408Z
DTSTART:20260423T150000Z
DTEND:20260423T160000Z
SUMMARY:Graveside Service
DESCRIPTION:
URL:https://www.charliemarshallfuneralhomes.com/obituaries/juanita-bates
LOCATION: 1520 TX-188  Rockport TX 78382
GEO:27.9717467;-97.1288682
END:VEVENT
END:VCALENDAR