BEGIN:VCALENDAR
VERSION:2.0
PRODID:-//Tukios.com/
BEGIN:VEVENT
UID:3ca8e4bb-53b6-4249-933b-a2a6208a6fd6@www.charliemarshallfuneralhomes.com
DTSTAMP:20260424T185047Z
DTSTART:20260429T160000Z
DTEND:20260429T161500Z
SUMMARY:Graveside Service
DESCRIPTION:
URL:https://www.charliemarshallfuneralhomes.com/obituaries/jose-miguel-vasquez
LOCATION: 4424 FM 1069  Aransas Pass TX 78336
GEO:27.9148772;-97.1820041
END:VEVENT
END:VCALENDAR