BEGIN:VCALENDAR
VERSION:2.0
PRODID:-//Tukios.com/
BEGIN:VEVENT
UID:ab7878f0-dabe-4447-8742-a8a1d5a9d1c8@www.charliemarshallfuneralhomes.com
DTSTAMP:20260424T185004Z
DTSTART:20260429T140000Z
DTEND:20260429T150000Z
SUMMARY:Funeral Service
DESCRIPTION:
URL:https://www.charliemarshallfuneralhomes.com/obituaries/jose-miguel-vasquez
LOCATION:Charlie Marshall Funeral Home 2003 West Wheeler Avenue  Aransas 
	Pass TX 78336
GEO:27.9175142;-97.1658365
END:VEVENT
END:VCALENDAR