BEGIN:VCALENDAR
VERSION:2.0
PRODID:-//Tukios.com/
BEGIN:VEVENT
UID:2ffaca25-830f-45cf-9e65-c23dc7f7a68f@www.charliemarshallfuneralhomes.com
DTSTAMP:20260424T185236Z
DTSTART:20260428T150000Z
DTEND:20260429T010000Z
SUMMARY:Visitation
DESCRIPTION:
URL:https://www.charliemarshallfuneralhomes.com/obituaries/jose-miguel-vasquez
LOCATION: 2003 W Wheeler Ave  Aransas Pass TX 78336
GEO:27.9175142;-97.1658365
END:VEVENT
END:VCALENDAR