BEGIN:VCALENDAR
VERSION:2.0
PRODID:-//Tukios.com/
BEGIN:VEVENT
UID:85b13ebb-46aa-407b-b462-b5a50378fcb7@www.charliemarshallfuneralhomes.com
DTSTAMP:20260419T130511Z
DTSTART:20260417T150000Z
DTEND:20260417T160000Z
SUMMARY:Visitation
DESCRIPTION:
URL:https://www.charliemarshallfuneralhomes.com/obituaries/janis-kasper-rangnow
LOCATION: 1515 N Live Oak St  Rockport TX 78382
GEO:28.0397909;-97.0531636
END:VEVENT
END:VCALENDAR