BEGIN:VCALENDAR
VERSION:2.0
PRODID:-//Tukios.com/
BEGIN:VEVENT
UID:2ecddc5e-aa87-45a7-8153-f8e1fa8b5545@www.charliemarshallfuneralhomes.com
DTSTAMP:20260421T020904Z
DTSTART:20260422T160000Z
DTEND:20260422T161500Z
SUMMARY:Graveside Service
DESCRIPTION:
URL:https://www.charliemarshallfuneralhomes.com/obituaries/angel-barrientes
LOCATION:  Kenny Ln  Ingleside TX 78362
GEO:27.8814336;-97.1846856
END:VEVENT
END:VCALENDAR