BEGIN:VCALENDAR
VERSION:2.0
PRODID:-//Tukios.com/
BEGIN:VEVENT
UID:53a5b4af-e59e-4176-8165-ebcbad504acc@www.charliemarshallfuneralhomes.com
DTSTAMP:20260421T021143Z
DTSTART:20260422T140000Z
DTEND:20260422T150000Z
SUMMARY:Funeral Service
DESCRIPTION:
URL:https://www.charliemarshallfuneralhomes.com/obituaries/angel-barrientes
LOCATION:Charlie Marshall Funeral Home 2003 West Wheeler Avenue  Aransas 
	Pass TX 78336
GEO:27.9175142;-97.1658365
END:VEVENT
END:VCALENDAR