BEGIN:VCALENDAR
VERSION:2.0
PRODID:-//Tukios.com/
BEGIN:VEVENT
UID:6948d4bb-2ada-4fe8-9927-776ede407da5@www.charliemarshallfuneralhomes.com
DTSTAMP:20260421T021143Z
DTSTART:20260422T130000Z
DTEND:20260422T140000Z
SUMMARY:Visitation
DESCRIPTION:
URL:https://www.charliemarshallfuneralhomes.com/obituaries/angel-barrientes
LOCATION:Charlie Marshall Funeral Home 2003 West Wheeler Avenue  Aransas 
	Pass TX 78336
GEO:27.9175142;-97.1658365
END:VEVENT
END:VCALENDAR