BEGIN:VCALENDAR
VERSION:2.0
PRODID:-//Tukios.com/
BEGIN:VEVENT
UID:1c8cb29b-0ad7-4573-bdc1-5197fbda2766@www.charliemarshallfuneralhomes.com
DTSTAMP:20260421T202511Z
DTSTART:20260425T160000Z
DTEND:20260425T170000Z
SUMMARY:Charlie Marshall Funeral Home
DESCRIPTION:
URL:https://www.charliemarshallfuneralhomes.com/obituaries/alexa-clark
LOCATION:Prairie View Cemetery 4618 FM 1069  ARANSAS PASS  78336
GEO:27.9182612;-97.1794644
END:VEVENT
END:VCALENDAR