BEGIN:VCALENDAR
VERSION:2.0
PRODID:-//Tukios.com/
BEGIN:VEVENT
UID:a77c97b9-e6ef-404b-9b68-006ce8e1cefd@www.charliemarshallfuneralhomes.com
DTSTAMP:20260421T202151Z
DTSTART:20260425T150000Z
DTEND:20260425T160000Z
SUMMARY:Funeral Service
DESCRIPTION:
URL:https://www.charliemarshallfuneralhomes.com/obituaries/alexa-clark
LOCATION: 2003 W Wheeler Ave  Aransas Pass TX 78336
GEO:27.9175142;-97.1658365
END:VEVENT
END:VCALENDAR