BEGIN:VCALENDAR
VERSION:2.0
PRODID:-//Tukios.com/
BEGIN:VEVENT
UID:65cdde0a-9964-45fa-a25b-c34007afd651@www.charliemarshallfuneralhomes.com
DTSTAMP:20260421T202307Z
DTSTART:20260425T140000Z
DTEND:20260425T150000Z
SUMMARY:Visitation
DESCRIPTION:
URL:https://www.charliemarshallfuneralhomes.com/obituaries/alexa-clark
LOCATION: 2003 W Wheeler Ave  Aransas Pass TX 78336
GEO:27.9175142;-97.1658365
END:VEVENT
END:VCALENDAR